BEGIN:VCALENDAR
VERSION:2.0
PRODID:-//WP EVENT Manager Ical//NONSGML Events //EN
CALSCALE:GREGORIAN

BEGIN:VEVENT

DTSTART:20241114T080000Z
DTEND:20241114T180000Z
LOCATION:Promenada Mall , Shopping City Sbiu
SUMMARY:O viata dulce fara diabet!
DESCRIPTION:Pe 14 noiembrie, de Ziua Mondială a Diabetului, Organizația Studenților Mediciniști, sub egida Facultății de Medicină din cadrul ULBS,coordonat de sef lucrari Dr. Tanasescu Denisa  va derula campania de prevenție „O viață dulce fără diabet”. Astfel, pe 14 noiembrie între orele 10.00 și 20.00 vor fi amplasate standuri pentru testarea gratuită a glicemiei în malluri, ..... 
END:VEVENT
END:VCALENDAR
