BEGIN:VCALENDAR
VERSION:2.0
PRODID:-//WP EVENT Manager Ical//NONSGML Events //EN
CALSCALE:GREGORIAN

BEGIN:VEVENT

DTSTART:20250319T150000Z
DTEND:20250319T170000Z
LOCATION:Centrul de Servicii Integrate pentru Studenți SmartHub
SUMMARY:Smart Vibes pe Banatului 6 – “În pas cu tehnologia modernă în domeniul neurochirurgiei”
DESCRIPTION:Smart Vibes pe Banatului 6  Seri de dialog și inspirație pentru viitorul tău Tema eveniment: “În pas cu tehnologia modernă în domeniul neurochirurgiei” Invitat/ speaker eveniment: Dr. Claudiu Matei, medic neurochirug, coordonatorul echipei din secția de neurochirurgie a Spitalului MedLife Polisano Sibiu, Șef de lucrări în cadrul Universității „Lucian Blaga” Sibiu, Facultatea de Medicină Când? ..... 
END:VEVENT
END:VCALENDAR
