BEGIN:VCALENDAR
VERSION:2.0
PRODID:-//WP EVENT Manager Ical//NONSGML Events //EN
CALSCALE:GREGORIAN

BEGIN:VEVENT

DTSTART:20251107T055354Z
DTEND:20251108T055354Z
LOCATION:Hotel Mercure Sibiu Arsenal
SUMMARY:Conferința Rețelei de Antreprenoriat și Inovare (CRAI) & SAS Networking Days 2025
DESCRIPTION:Avem plăcerea de a vă anunța că următoarea ediție a celor două evenimente de referință din domeniul antreprenoriatului universitar și al educației pentru inovare va avea loc în perioada: 7–8 noiembrie 2025 Sibiu, Hotel Mercure – Arsenal Evenimentul este organizat de echipa EduHub  din cadrul Universității „Lucian Blaga” din Sibiu și va reuni, sub aceeași umbrelă, Conferința CRAI (Conferința Rețelei de ..... 
END:VEVENT
END:VCALENDAR
