BEGIN:VCALENDAR
VERSION:2.0
PRODID:-//WP EVENT Manager Ical//NONSGML Events //EN
CALSCALE:GREGORIAN

BEGIN:VEVENT

DTSTART:20251205T070000Z
DTEND:20251206T153000Z
LOCATION:str. General Magheru 1-3, Sibiu
SUMMARY:Living from Difference. Intercultural Encounters and Contradictions of Pluriversal Ways of Being
DESCRIPTION:This conference is an attempt to reflect on spatial configurations — islands and non-places of passage — but also to explore the socio-cultural dimensions of space at the intersection of living environments and communities, between spatial opening and entropy, in the tension between possibility and emerging constraint. Contributions elaborate on the specificity of the emergence ..... 
END:VEVENT
END:VCALENDAR
