BEGIN:VCALENDAR
VERSION:2.0
PRODID:-//WP EVENT Manager Ical//NONSGML Events //EN
CALSCALE:GREGORIAN

BEGIN:VEVENT

DTSTART:20251119T060000Z
DTEND:20251122T170000Z
LOCATION:Facultatea de Medicină
SUMMARY:Conferința Științifică PSIHIATRIE ȘI PSIHOLOGIE MEDICO-LEGALĂ – INTER ȘI TRANSDISCIPLINARITATE – ediția a V-a
DESCRIPTION:Universitatea „Lucian Blaga” din Sibiu, Spitalul Clinic de Psihiatrie „Dr. Gheorghe Preda” Sibiu și Spitalul Clinic Județean de Urgență Sibiu – Serviciul Județean de Medicină Legală Sibiu organizează cea de-a 5-a ediție a Conferinței „Psihiatrie și Psihologie Medico-Legală – Inter și  Transdisciplinaritate”  care se va desfășura la Sibiu în perioada 19–22 noiembrie 2025. Invitați din ..... 
END:VEVENT
END:VCALENDAR
