BEGIN:VCALENDAR
VERSION:2.0
PRODID:-//WP EVENT Manager Ical//NONSGML Events //EN
CALSCALE:GREGORIAN

BEGIN:VEVENT

DTSTART:20250305T220000Z
DTEND:20250305T220000Z
LOCATION:Centrul de Servicii Intagrate pentru Studenti SmartHub
SUMMARY:ALUMNI DAYS by SmartHub ALUMNI – Hai să cunoaștem povești de succes
DESCRIPTION:ALUMNI DAYS by SmartHub ALUMNI – Hai să cunoaștem povești de succes! 🎓 Centrul SmartHub derulează o serie de activități dedicate comunității ALUMNI din cadrul ULBS. Vino să cunoști oameni care au fost în locul tău și și-au transformat visurile în realitate! Inspiră-te din parcursul lor, pune întrebări și descoperă ce oportunități te așteaptă! 📍 ..... 
END:VEVENT
END:VCALENDAR
