BEGIN:VCALENDAR
VERSION:2.0
PRODID:-//WP EVENT Manager Ical//NONSGML Events //EN
CALSCALE:GREGORIAN

BEGIN:VEVENT

DTSTART:20251204T061331Z
DTEND:20251204T061331Z
LOCATION:Centrul Smartub
SUMMARY:Atelier „De la candidat la angajat”
DESCRIPTION:Atelierul „De la Candidat la Angajat”, dedicat studenților care doresc să-și dezvolte și să-și consolideze abilitățile profesionale, se va desfășura pe 4 decembrie 2025, între orele 15:00 și 16:00, la Centrul SmartHub, în Foaierul de la parter, str. Banatului, nr. 6. Invitatul special al evenimentului este Dan Kelp, Co-Fondator și Operating Principal la Keller Williams ..... 
END:VEVENT
END:VCALENDAR
