BEGIN:VCALENDAR
VERSION:2.0
PRODID:-//WP EVENT Manager Ical//NONSGML Events //EN
CALSCALE:GREGORIAN

BEGIN:VEVENT

DTSTART:20251023T120000Z
DTEND:20251023T140000Z
LOCATION:
SUMMARY:Profesiile Viitorului – „Cum îmi aleg ce fac în viață?”
DESCRIPTION:Dragi studenți, masteranzi și absolvenți, Pornim organizarea pentru evenimentele „Profesiile viitorului &#8211; Provocările și tendințele profesionale”, care au ca scop interacțiunea directă, informală dintre voi, tinerii și profesioniștii din piața muncii. Tema eveniment: „Cum îmi aleg ce fac în viață?” Invitați speciali : Ionuț Tăban, manager executiv in colaborare cu OVB Allfinanz România, cea mai ..... 
END:VEVENT
END:VCALENDAR
