BEGIN:VCALENDAR
VERSION:2.0
PRODID:-//WP EVENT Manager Ical//NONSGML Events //EN
CALSCALE:GREGORIAN

BEGIN:VEVENT

DTSTART:20251119T140000Z
DTEND:20251119T160000Z
LOCATION:Centrul SmartHub, Foaier etajul 2
SUMMARY:Profesiile viitorului – De la vis la vocație: cum se construiește o cariera cu pasiune în medicina dentară?
DESCRIPTION:Eveniment „Profesiile viitorului- Provocările și tendințele din domeniile profesionale” Tema întâlnirii: „De la vis la vocație: cum se construiește o cariera cu pasiune în medicina dentară?” Data: 19 noiembrie 2025 Locație: Centrul SmartHub, str. Banatului nr.6, Foaier Etajul 2 Interval orar: 16.00- 18.00 Speaker:  Dr. Adriana DincăMedic stomatolog, cu competente in terapie laser si Master in Endodontie AvansataCo-fondator si coordonator ..... 
END:VEVENT
END:VCALENDAR
