BEGIN:VCALENDAR
VERSION:2.0
PRODID:-//WP EVENT Manager Ical//NONSGML Events //EN
CALSCALE:GREGORIAN

BEGIN:VEVENT

DTSTART:20250403T140000Z
DTEND:20250403T153000Z
LOCATION:Centrul de Servicii Integrate pentru Studenți SmartHub
SUMMARY:Sesiune de Q_A cu Părintele Constantin Necula „Sunt INDEPENDENT, NU ALEG dependent!”
DESCRIPTION:Centrul SmartHub și echipa de voluntari anunță cu bucurie cel de-al doilea eveniment al Campaniei „Sunt INDEPENDENT, NU ALEG dependent!” Sesiune de Q&#38;A cu Părintele Constantin Necula.  Când va avea loc?  Joi, 03 aprilie 2025 În ce interval orar? Între orele 17.00 și 18.30 Unde va avea loc? Centrul de servicii integrate pentru studenți SmartHub Adresa: ..... 
END:VEVENT
END:VCALENDAR
