BEGIN:VCALENDAR
VERSION:2.0
PRODID:-//WP EVENT Manager Ical//NONSGML Events //EN
CALSCALE:GREGORIAN

BEGIN:VEVENT

DTSTART:20251029T150000Z
DTEND:20251029T163000Z
LOCATION:Centrul de Servicii Integrate pentru Studenți SmartHub
SUMMARY:Smart Vibes pe Banatului 6 – Ce înseamnă „gândirea critică” în vremuri de incertitudine?
DESCRIPTION:Tema eveniment: Ce înseamnă &#8222;gândirea critică&#8221; în vremuri de incertitudine? Invitat/ speaker eveniment: Robert Pfützner, lector universitar dr. în cadrul Universității „Lucian Blaga” din Sibiu Când? Miercuri, 29 octombrie 2025, 17.00-18.30 La universitate, ar trebui să înveți să gândești critic. Dar ce este gândirea critică? Poate fi învățată? Ce riscuri implică aceasta? Nu în ultimul ..... 
END:VEVENT
END:VCALENDAR
