BEGIN:VCALENDAR
VERSION:2.0
PRODID:-//WP EVENT Manager Ical//NONSGML Events //EN
CALSCALE:GREGORIAN

BEGIN:VEVENT

DTSTART:20250402T140000Z
DTEND:20250402T160000Z
LOCATION:Centrul de Servicii Integrate pentru Studenți SmartHub
SUMMARY:Smart Vibes pe Banatului 6 – „Cum construim adevărul din cuvinte”
DESCRIPTION:Tema eveniment: „Cum construim adevărul din cuvinte” Invitat/ speaker eveniment: Radu Vancu, poet, prozator, eseist și traducător român, profesor la Facultatea de Litere și Arte a Universității &#8222;Lucian Blaga&#8221; din Sibiu și redactor-șef al revistei Transilvania, care inspiră prin modul în care îmbină creația, educația și implicarea socială. Când? Miercuri, 2 aprilie 2025, 17.00-19.00 Te ..... 
END:VEVENT
END:VCALENDAR
