BEGIN:VCALENDAR
VERSION:2.0
PRODID:-//WP EVENT Manager Ical//NONSGML Events //EN
CALSCALE:GREGORIAN

BEGIN:VEVENT

DTSTART:20251127T150000Z
DTEND:20251127T150000Z
LOCATION:Centrul SmartHub
SUMMARY:Smart Vibes pe Banatului 6 – Cum se simt, de fapt, studenții ULBS? O conversație despre sănătatea mintală în universitate.
DESCRIPTION:Smart Vibes pe Banatului 6. Seri de dialog și inspirație pentru viitorul tău Tema eveniment: „Cum se simt, de fapt, studenții ULBS? O conversație despre sănătatea mintală în universitate” Invitat/ speaker eveniment: Ciprian Băcilă, conferențiar universitar dr. în cadrul Universității „Lucian Blaga” din Sibiu și director medical al Spitalului Clinic de Psihiatrie „Dr. Gheorghe Preda” ..... 
END:VEVENT
END:VCALENDAR
