BEGIN:VCALENDAR
VERSION:2.0
PRODID:-//WP EVENT Manager Ical//NONSGML Events //EN
CALSCALE:GREGORIAN

BEGIN:VEVENT

DTSTART:20250528T140000Z
DTEND:20250528T153000Z
LOCATION:Centrul de Servicii Integrate pentru Studenți SmartHub
SUMMARY:Smart Vibes pe Banatului 6 – “Din Sibiu spre Europa. Despre universitate și alte cele…”
DESCRIPTION:Smart Vibes pe Banatului 6  Seri de dialog și inspirație pentru viitorul tău &#160; Tema eveniment: “Din Sibiu spre Europa. Despre universitate și alte cele&#8230;” Invitat/ speaker eveniment: profesorul și istoricul Sorin Radu, rectorul Universității Lucian Blaga din Sibiu Când? Miercuri, 28 mai 2025, 17.00-18.30 „Vibe”-ul întâlnirii Smart Vibes din 28 mai este dat chiar ..... 
END:VEVENT
END:VCALENDAR
