BEGIN:VCALENDAR
VERSION:2.0
PRODID:-//WP EVENT Manager Ical//NONSGML Events //EN
CALSCALE:GREGORIAN

BEGIN:VEVENT

DTSTART:20250416T140000Z
DTEND:20250416T160000Z
LOCATION:Centrul de Servicii Integrate pentru Studenți SmartHub
SUMMARY:Smart Vibes pe Banatului 6 -: Want to learn how to pitch like a pro – even if you don’t have an idea (yet)?
DESCRIPTION:Tema eveniment: Want to learn how to pitch like a pro – even if you don’t have an idea (yet)?&#8221;* *Evenimentul se va desfășura în limba engleză Speaker: Akos R. Wetters, Innovation Coach &#38; Trainer, Co-founder at Kimitisik, a seasoned expert with over 15 years of experience in innovation and entrepreneurship. Ne adresăm studenților din ..... 
END:VEVENT
END:VCALENDAR
