BEGIN:VCALENDAR
VERSION:2.0
PRODID:-//WP EVENT Manager Ical//NONSGML Events //EN
CALSCALE:GREGORIAN

BEGIN:VEVENT

DTSTART:20251014T140000Z
DTEND:20251014T153000Z
LOCATION:Centrul de Servicii Integrate pentru Studenți SmartHub
SUMMARY:Smart Vibes pe Banatului nr. 6 – “Transformarea Școlii din comunități mici prin Inovație și Implicare”
DESCRIPTION:Smart Vibes pe Banatului 6 &#8211; Seri de dialog și inspirație pentru viitorul tău Tema eveniment: “Transformarea Școlii din comunități mici prin Inovație și Implicare” Invitat/ speaker eveniment: Sebastian Vasile Morar, director adjunct și profesor pentruînvățământul primar la Școala Gimnazială Ocna Sibiului. Când? Marți, 14 octombrie 2025, 17.00-18.30 Prin această temă, invitatul nostru se adresează ..... 
END:VEVENT
END:VCALENDAR
