BEGIN:VCALENDAR
VERSION:2.0
PRODID:-//WP EVENT Manager Ical//NONSGML Events //EN
CALSCALE:GREGORIAN

BEGIN:VEVENT

DTSTART:20260304T110000Z
DTEND:20260304T123000Z
LOCATION:Parterul Bibliotecii ULBS
SUMMARY:SmartVibes – „Între familie și facultate: echilibrul care ne susține”
DESCRIPTION:Dragi studenți, Vă invităm la evenimentul SmartVibes care se va desfășura în 4 martie, în parteneriat cu Biblioteca Universității „Lucian Blaga” Sibiu Tema întâlnirii: „Între familie și facultate: echilibrul care ne susține”În ce interval orar? Între orele 13.00 &#8211; 14.30Locație: Parterul Bibliotecii ULBSInvitat special: Prof. univ. dr. Raluca Sassu, Prorector Studenți și Relația cu Comunitatea ..... 
END:VEVENT
END:VCALENDAR
