BEGIN:VCALENDAR
VERSION:2.0
PRODID:-//WP EVENT Manager Ical//NONSGML Events //EN
CALSCALE:GREGORIAN

BEGIN:VEVENT

DTSTART:20251112T150000Z
DTEND:20251112T163000Z
LOCATION:Foaier Parter Centrul SmartHub
SUMMARY:SmartVibes pe Banatului nr.6- „Puterea poveștii de a construi și transforma comunități”
DESCRIPTION:Smart Vibes pe Banatului 6Seri de dialog și inspirație pentru viitorul tăuTema eveniment: Puterea poveștii de a construi și transforma comunități Invitat/ speaker eveniment: Oana Ciucă, jurnalistă de radio și presă scrisă, fondatoare a revistei Capital Cultural și creatoare de proiecte educaționale și culturale dedicate comunității Când? Miercuri, 12 noiembrie 2025, 17.00-18.30 Oana ne va ..... 
END:VEVENT
END:VCALENDAR
