BEGIN:VCALENDAR
VERSION:2.0
PRODID:-//WP EVENT Manager Ical//NONSGML Events //EN
CALSCALE:GREGORIAN

BEGIN:VEVENT

DTSTART:20251106T140000Z
DTEND:20251106T150000Z
LOCATION:
SUMMARY:WEBINAR ”ALFABETIZARE DIGITALĂ ȘI INTELIGENȚĂ ARTIFICIALĂ: Transformarea predării limbilor străine în era tehnologiei”
DESCRIPTION:Dragi studenți și masteranzi, Ultima întâlnire din seria webinarelor „Piața muncii în dialog cu studenții” are o temă transversală: dezvoltarea competențelor lingvistice. Am gândit aceste întâlniri online special pentru voi, cu scopul de a răspunde întrebărilor voastre despre carieră, viitor și pregătirea pentru ceea ce urmează după facultate. Fiecare webinar aduce invitați care vor vorbi ..... 
END:VEVENT
END:VCALENDAR
