BEGIN:VCALENDAR
VERSION:2.0
PRODID:-//WP EVENT Manager Ical//NONSGML Events //EN
CALSCALE:GREGORIAN

BEGIN:VEVENT

DTSTART:20260329T060000Z
DTEND:20260329T110000Z
LOCATION:Sala Polivalentă ”Transilvania” din Sibiu
SUMMARY:CAMPIONATUL NAȚIONAL UNIVERSITAR DE JUDO
DESCRIPTION:CAMPIONATUL NAȚIONAL UNIVERSITAR DE JUDO A 55-A EDITIE NATIONALAA 25-A EDITIE ORGANIZATA DE ULBS29 MARTIE 2026ORELE 9.00-14.00 Campionatul Naţional Universitar de Judo (m-f) este organizat de către Federaţia Sportului Şcolar şi Universitar  în parteneriat cu Universitatea ”Lucian Blaga” din Sibiu și Federaţia Română de Judo, cu sprijinul Direcției Județene pentru Sport Sibiu  și Inspectoratul Școlar ..... 
END:VEVENT
END:VCALENDAR
