BEGIN:VCALENDAR
VERSION:2.0
PRODID:-//WP EVENT Manager Ical//NONSGML Events //EN
CALSCALE:GREGORIAN

BEGIN:VEVENT

DTSTART:19700101T000000Z
DTEND:19700101T000000Z
LOCATION:Sala polivalentă Transilvania
SUMMARY:Campionatul național universitar de judo
DESCRIPTION:Organizăm în parteneriat cu Federația Sportului Școlar și Universitar ediția din acest an a Campionatului Național Universitar de Judo. Delegațiile vor sosi vineri în data de 27 martie, iar competiția va avea loc în data de 28 martie.
END:VEVENT
END:VCALENDAR
