BEGIN:VCALENDAR
VERSION:2.0
PRODID:-//WP EVENT Manager Ical//NONSGML Events //EN
CALSCALE:GREGORIAN

BEGIN:VEVENT

DTSTART:20260507T064938Z
DTEND:20260515T064938Z
LOCATION:LOCATII: Fotbal: Teren fotbal Facultatea de Științe , Tenis de masă: Sala Bulevardul Victoriei nr.5-7, Baschet Sala CSU, Volei: Sala CSS
SUMMARY:CUPA UNIVERSITARĂ ULBS 2026 (Fotbal, Volei, Baschet , Tenis de masă)
DESCRIPTION:CUPA UNIVERSITARĂ ULBS 2026 Universitatea „Lucian Blaga” din Sibiu invită studenții și cadrele didactice să participe la Cupa Universitară ULBS, o competiție sportivă menită să promoveze spiritul de echipă, fairplayul și performanța. SPORTURI ÎN COMPETIȚIE: Fotbal (băieți – fiecare an de studiu va avea propria echipă) Baschet (echipe mixte) Volei (echipe mixte) Tenis de masă ..... 
END:VEVENT
END:VCALENDAR
