BEGIN:VCALENDAR
VERSION:2.0
PRODID:-//WP EVENT Manager Ical//NONSGML Events //EN
CALSCALE:GREGORIAN

BEGIN:VEVENT

DTSTART:20241205T093103Z
DTEND:20241207T093103Z
LOCATION:Facultatea de Științe Socioumane
SUMMARY:International Conference “Vulnerability, Crises, and Social Justice: Cultivating Cross-disciplinary Understanding to Bridge Societal Divides””
DESCRIPTION:The primary aim of our conference is to assemble scholars from a wide array of academic disciplines to explore and exchange insights on the latest research trends concerning contemporary challenges. We welcome contributions from scholars in the social sciences interested in topics related to crises, violence, vulnerable groups, inequalities and social justice, polarization, mis- and ..... 
END:VEVENT
END:VCALENDAR
