BEGIN:VCALENDAR
VERSION:2.0
PRODID:-//WP EVENT Manager Ical//NONSGML Events //EN
CALSCALE:GREGORIAN

BEGIN:VEVENT

DTSTART:20241022T060000Z
DTEND:20241022T150000Z
LOCATION:Facultatea de Medicină
SUMMARY:Târgul educațional TeD ULBS 2024
DESCRIPTION:Pe 22 octombrie, în cea de-a doua zi a Săptămânii altfel planificate să aibă loc în liceele din județul Sibiu, ULBS le propune  mai ales elevilor din clasele a XI-a și a XII-a o întâlnire cu cele nouă facultăți, dar și cu structurile care susțin activitatea studențească (SmartHub, Erasmus +, D-School, Biblioteca ULBS, COCERC), pentru a afla direct de ..... 
END:VEVENT
END:VCALENDAR
