BEGIN:VCALENDAR
VERSION:2.0
PRODID:-//WP EVENT Manager Ical//NONSGML Events //EN
CALSCALE:GREGORIAN

BEGIN:VEVENT

DTSTART:20250506T150000Z
DTEND:20250506T170000Z
LOCATION:Centrul SMARTHUB, strada Banatului, nr. 6
SUMMARY:NEUROBIOLOGIA TRAUMEI: DE LA CUNOȘTEREA ȘTIINȚIFICĂ LA PRACTICA PSIHOTERAPEUTICĂ
DESCRIPTION:ATELIERE DE LUCRU CAMPANIE ”PUTEREA DE A-ȚI RESCRIE POVESTEA. VINDECAREA ÎNCEPE CU ÎNȚELEGEREA!” În data de 6 mai 2025, între orele 18.00-20.00, vă așteptăm la un nou atelier cu tema ”NEUROBIOLOGIA TRAUMEI: DE LA CUNOȘTEREA ȘTIINȚIFICĂ LA PRACTICA PSIHOTERAPEUTICĂ.” Psihoterapeut Adela Răulea ne va ghida în explorarea modului în care trauma reconfigurează creierul și corpul, ..... 
END:VEVENT
END:VCALENDAR
