BEGIN:VCALENDAR
VERSION:2.0
PRODID:-//WP EVENT Manager Ical//NONSGML Events //EN
CALSCALE:GREGORIAN

BEGIN:VEVENT

DTSTART:20251108T070000Z
DTEND:20251108T160000Z
LOCATION:Facultatea de Stiinte Economice
SUMMARY:Where Social Economics Meets Institutional Economics: On Norms, Values and Ethics
DESCRIPTION:Scopul Workshop-ului: Atât Teoria economica sociala cât și economia instituțională sunt mai puțin cunoscute în Europa Centrala și de Est, în special în Romania. Scopul acestui workshop este de a populariza Teoria economica sociala și instituțională în lumea academica din aceasta regiune, de a populariza Asociația de Economie Sociala și Asociația pentru Economie Evoluționară și ..... 
END:VEVENT
END:VCALENDAR
