BEGIN:VCALENDAR
VERSION:2.0
PRODID:-//WP EVENT Manager Ical//NONSGML Events //EN
CALSCALE:GREGORIAN

BEGIN:VEVENT

DTSTART:20250810T210000Z
DTEND:20250810T210000Z
LOCATION:Facultatea de Stiinte Economice
SUMMARY:Where Social Economics Meets Institutional Economics: On Norms, Values and Ethics
DESCRIPTION:Facultatea de Științe Economice organizează Workshop-ul: ‚Where Social Economics Meets Institutional Economics: On Norms, Values and Ethics’ Scopul Workshop-ului: Atât Teoria economica sociala cât și economia instituțională sunt mai puțin cunoscute în Europa Centrala și de Est, în special în Romania. Scopul acestui workshop este de a populariza Teoria economica sociala și instituțională în lumea ..... 
END:VEVENT
END:VCALENDAR
